BEGIN:VCALENDAR
VERSION:2.0
PRODID:-//eventon.com NONSGML v1.0//EN
BEGIN:VEVENT
UID:69e4d9ca785e7
DTSTAMP:20260419T153402
DTSTART:20211028T170000Z
DTEND:20211028T210000Z
TZID:Europe/Copenhagen
LOCATION:Kink Club Skive Bilstrupvej 13A
SUMMARY:Kinky Ropes
DESCRIPTION: Kinky Ropes er Kink Clubs nyeste tiltag\,  hvor vi kombinere kinky BDSM og japansk inspireret bondage.   Typisk vil der være et kort oplæg over et tema\,  der kunne være aktuelt i reb sammenhæng\,  efterfulgt af en kort demonstration. Derefter bindes der udefra peer rope princippet\,  hvor vi deler viden/tips/tricks[..]\nhttps://bdsmevents.dk/events/kinky-ropes-7/
URL:https://bdsmevents.dk/events/kinky-ropes-7/
END:VEVENT
END:VCALENDAR