BEGIN:VCALENDAR
VERSION:2.0
PRODID:-//eventon.com NONSGML v1.0//EN
BEGIN:VEVENT
UID:69ecf5522152d
DTSTAMP:20260425T190938
DTSTART:20211009T110000Z
DTEND:20211010T160000Z
TZID:Europe/Copenhagen
LOCATION:Kink Club Skive Bilstrupvej 13A
SUMMARY:Nasty Ropes
DESCRIPTION: Lets talk about ropes. Kunne du bruge nye redskaber og måder at lege med din bund på? Ville det være fedt at lære nogle yderst effektive metoder og bindinger til at give jeres leg endnu flere lag? At gøre dig selv endnu bedre i stand til at udfordre din bund[..]\nhttps://bdsmevents.dk/events/nasty-ropes/
URL:https://bdsmevents.dk/events/nasty-ropes/
END:VEVENT
END:VCALENDAR