BEGIN:VCALENDAR
VERSION:2.0
PRODID:-//eventon.com NONSGML v1.0//EN
BEGIN:VEVENT
UID:69eb176c7d213
DTSTAMP:20260424T091036
DTSTART:20210702T170000Z
DTEND:20210702T215900Z
TZID:Europe/Copenhagen
LOCATION:Kink Club Skive Bilstrupvej 13A
SUMMARY:Play Night og Singletail i Roissy
DESCRIPTION: En alm play night\,  men dem der er til legen med singletails mødes i Roissy og øver og deler erfaringer. Resten at klubben køre som den plejer med lounge og legerum og stald. Ved ankomst skal der fremvises corona pas\,  som er en max 72 timers gammel negativ test eller[..]\nhttps://bdsmevents.dk/events/play-night-og-singletail-i-roissy/
URL:https://bdsmevents.dk/events/play-night-og-singletail-i-roissy/
END:VEVENT
END:VCALENDAR