BEGIN:VCALENDAR
VERSION:2.0
PRODID:-//eventon.com NONSGML v1.0//EN
BEGIN:VEVENT
UID:69e73ac003b39
DTSTAMP:20260421T105216
DTSTART:20190629T180000Z
DTEND:20190629T215000Z
TZID:Europe/Copenhagen
LOCATION:
SUMMARY:Kinky Bondage
DESCRIPTION: Kinky Bondage er en aften hvor vi primært vil have fokus på udfoldelse\,  vidensdeling og læring\,  hvor såvel Shibari\,  Kinbaku og free-style bondage stilarter er hjerteligt velkomne. Visionen for Kinky Bondage er\,  at alt foregår i sikre\,  rolige\,  stemningsfulde og hyggelige omgivelser. En vision\,  som vi ser frem til at[..]\nhttps://bdsmevents.dk/events/kinky-bondage-4/
URL:https://bdsmevents.dk/events/kinky-bondage-4/
END:VEVENT
END:VCALENDAR